BEGIN:VCALENDAR
VERSION:2.0
PRODID:-//Ludvigsborgs Friskola - ECPv6.15.20//NONSGML v1.0//EN
CALSCALE:GREGORIAN
METHOD:PUBLISH
X-WR-CALNAME:Ludvigsborgs Friskola
X-ORIGINAL-URL:https://www.ludvigsborgsskolan.se
X-WR-CALDESC:Händelser för Ludvigsborgs Friskola
REFRESH-INTERVAL;VALUE=DURATION:PT1H
X-Robots-Tag:noindex
X-PUBLISHED-TTL:PT1H
BEGIN:VTIMEZONE
TZID:Europe/Stockholm
BEGIN:DAYLIGHT
TZOFFSETFROM:+0100
TZOFFSETTO:+0200
TZNAME:CEST
DTSTART:20240331T010000
END:DAYLIGHT
BEGIN:STANDARD
TZOFFSETFROM:+0200
TZOFFSETTO:+0100
TZNAME:CET
DTSTART:20241027T010000
END:STANDARD
BEGIN:DAYLIGHT
TZOFFSETFROM:+0100
TZOFFSETTO:+0200
TZNAME:CEST
DTSTART:20250330T010000
END:DAYLIGHT
BEGIN:STANDARD
TZOFFSETFROM:+0200
TZOFFSETTO:+0100
TZNAME:CET
DTSTART:20251026T010000
END:STANDARD
BEGIN:DAYLIGHT
TZOFFSETFROM:+0100
TZOFFSETTO:+0200
TZNAME:CEST
DTSTART:20260329T010000
END:DAYLIGHT
BEGIN:STANDARD
TZOFFSETFROM:+0200
TZOFFSETTO:+0100
TZNAME:CET
DTSTART:20261025T010000
END:STANDARD
BEGIN:DAYLIGHT
TZOFFSETFROM:+0100
TZOFFSETTO:+0200
TZNAME:CEST
DTSTART:20270328T010000
END:DAYLIGHT
BEGIN:STANDARD
TZOFFSETFROM:+0200
TZOFFSETTO:+0100
TZNAME:CET
DTSTART:20271031T010000
END:STANDARD
END:VTIMEZONE
BEGIN:VEVENT
DTSTART;TZID=Europe/Stockholm:20251219T082000
DTEND;TZID=Europe/Stockholm:20251219T100000
DTSTAMP:20260425T013207
CREATED:20250206T055258Z
LAST-MODIFIED:20250206T055258Z
UID:4664-1766132400-1766138400@www.ludvigsborgsskolan.se
SUMMARY:Skolavslutning
DESCRIPTION:Skolavslutning för elever på Ludvigsborgs Friskola på Ludvigsborgs Friskola kl. 8.20-10.00.\nBussar går hem i anslutning till skoldags slut.
URL:https://www.ludvigsborgsskolan.se/kalendern/skolavslutning-15/
END:VEVENT
BEGIN:VEVENT
DTSTART;VALUE=DATE:20260109
DTEND;VALUE=DATE:20260110
DTSTAMP:20260425T013207
CREATED:20250707T115832Z
LAST-MODIFIED:20250707T115832Z
UID:4702-1767916800-1768003199@www.ludvigsborgsskolan.se
SUMMARY:Skolstart VT 2026
DESCRIPTION:Skolstart ordinarie schema.
URL:https://www.ludvigsborgsskolan.se/kalendern/skolstart-vt-2026/
END:VEVENT
BEGIN:VEVENT
DTSTART;VALUE=DATE:20260216
DTEND;VALUE=DATE:20260221
DTSTAMP:20260425T013207
CREATED:20250707T120009Z
LAST-MODIFIED:20250707T120009Z
UID:4704-1771200000-1771631999@www.ludvigsborgsskolan.se
SUMMARY:SPORTLOV
DESCRIPTION:Sportlov!
URL:https://www.ludvigsborgsskolan.se/kalendern/sportlov-10/
END:VEVENT
BEGIN:VEVENT
DTSTART;VALUE=DATE:20260330
DTEND;VALUE=DATE:20260407
DTSTAMP:20260425T013207
CREATED:20250707T120134Z
LAST-MODIFIED:20250707T120134Z
UID:4706-1774828800-1775519999@www.ludvigsborgsskolan.se
SUMMARY:PÅSKLOV
DESCRIPTION:Påsklov!
URL:https://www.ludvigsborgsskolan.se/kalendern/pasklov-11/
END:VEVENT
BEGIN:VEVENT
DTSTART;VALUE=DATE:20260501
DTEND;VALUE=DATE:20260502
DTSTAMP:20260425T013207
CREATED:20250707T120336Z
LAST-MODIFIED:20250707T120336Z
UID:4708-1777593600-1777679999@www.ludvigsborgsskolan.se
SUMMARY:1 maj
DESCRIPTION:LOVDAG!
URL:https://www.ludvigsborgsskolan.se/kalendern/1-maj-2/
END:VEVENT
BEGIN:VEVENT
DTSTART;VALUE=DATE:20260514
DTEND;VALUE=DATE:20260515
DTSTAMP:20260425T013207
CREATED:20250707T120549Z
LAST-MODIFIED:20250707T120724Z
UID:4710-1778716800-1778803199@www.ludvigsborgsskolan.se
SUMMARY:Kristi Himmelsfärds dag
DESCRIPTION:Lovdag
URL:https://www.ludvigsborgsskolan.se/kalendern/kristi-himmelsfard/
END:VEVENT
BEGIN:VEVENT
DTSTART;VALUE=DATE:20260515
DTEND;VALUE=DATE:20260516
DTSTAMP:20260425T013207
CREATED:20250707T120803Z
LAST-MODIFIED:20250707T120803Z
UID:4713-1778803200-1778889599@www.ludvigsborgsskolan.se
SUMMARY:Dag efter helgdag\, lovdag
DESCRIPTION:Lovdag
URL:https://www.ludvigsborgsskolan.se/kalendern/dag-efter-helgdag-lovdag-2/
END:VEVENT
BEGIN:VEVENT
DTSTART;VALUE=DATE:20260611
DTEND;VALUE=DATE:20260612
DTSTAMP:20260425T013207
CREATED:20250707T120952Z
LAST-MODIFIED:20250707T120952Z
UID:4716-1781136000-1781222399@www.ludvigsborgsskolan.se
SUMMARY:Skolavslutning kl. 8.20-10.00
DESCRIPTION:Skolavslutning. Ingen skollunch serveras denna dag. \nBussar går hem i anslutning till skoldagens slut.
URL:https://www.ludvigsborgsskolan.se/kalendern/skolavslutning-kl-8-20-10-00/
END:VEVENT
END:VCALENDAR