BEGIN:VCALENDAR
VERSION:2.0
PRODID:-//Ludvigsborgs Friskola - ECPv6.15.20//NONSGML v1.0//EN
CALSCALE:GREGORIAN
METHOD:PUBLISH
X-ORIGINAL-URL:http://www.ludvigsborgsskolan.se
X-WR-CALDESC:Händelser för Ludvigsborgs Friskola
REFRESH-INTERVAL;VALUE=DURATION:PT1H
X-Robots-Tag:noindex
X-PUBLISHED-TTL:PT1H
BEGIN:VTIMEZONE
TZID:Europe/Stockholm
BEGIN:DAYLIGHT
TZOFFSETFROM:+0100
TZOFFSETTO:+0200
TZNAME:CEST
DTSTART:20230326T010000
END:DAYLIGHT
BEGIN:STANDARD
TZOFFSETFROM:+0200
TZOFFSETTO:+0100
TZNAME:CET
DTSTART:20231029T010000
END:STANDARD
BEGIN:DAYLIGHT
TZOFFSETFROM:+0100
TZOFFSETTO:+0200
TZNAME:CEST
DTSTART:20240331T010000
END:DAYLIGHT
BEGIN:STANDARD
TZOFFSETFROM:+0200
TZOFFSETTO:+0100
TZNAME:CET
DTSTART:20241027T010000
END:STANDARD
BEGIN:DAYLIGHT
TZOFFSETFROM:+0100
TZOFFSETTO:+0200
TZNAME:CEST
DTSTART:20250330T010000
END:DAYLIGHT
BEGIN:STANDARD
TZOFFSETFROM:+0200
TZOFFSETTO:+0100
TZNAME:CET
DTSTART:20251026T010000
END:STANDARD
BEGIN:DAYLIGHT
TZOFFSETFROM:+0100
TZOFFSETTO:+0200
TZNAME:CEST
DTSTART:20260329T010000
END:DAYLIGHT
BEGIN:STANDARD
TZOFFSETFROM:+0200
TZOFFSETTO:+0100
TZNAME:CET
DTSTART:20261025T010000
END:STANDARD
BEGIN:DAYLIGHT
TZOFFSETFROM:+0100
TZOFFSETTO:+0200
TZNAME:CEST
DTSTART:20270328T010000
END:DAYLIGHT
BEGIN:STANDARD
TZOFFSETFROM:+0200
TZOFFSETTO:+0100
TZNAME:CET
DTSTART:20271031T010000
END:STANDARD
END:VTIMEZONE
BEGIN:VEVENT
DTSTART;TZID=Europe/Stockholm:20240325T080000
DTEND;TZID=Europe/Stockholm:20240331T170000
DTSTAMP:20260425T122401
CREATED:20231227T123049Z
LAST-MODIFIED:20231227T123049Z
UID:4468-1711353600-1711904400@www.ludvigsborgsskolan.se
SUMMARY:PÅSKLOV
DESCRIPTION:Påsklov v 13
URL:http://www.ludvigsborgsskolan.se/kalendern/pasklov-9/
END:VEVENT
BEGIN:VEVENT
DTSTART;TZID=Europe/Stockholm:20240401T080000
DTEND;TZID=Europe/Stockholm:20240401T170000
DTSTAMP:20260425T122401
CREATED:20231227T123250Z
LAST-MODIFIED:20231227T123250Z
UID:4470-1711958400-1711990800@www.ludvigsborgsskolan.se
SUMMARY:PÅSKLOV
DESCRIPTION:Påsklov
URL:http://www.ludvigsborgsskolan.se/kalendern/pasklov-8/
END:VEVENT
BEGIN:VEVENT
DTSTART;TZID=Europe/Stockholm:20240422T080000
DTEND;TZID=Europe/Stockholm:20240422T170000
DTSTAMP:20260425T122401
CREATED:20231227T123856Z
LAST-MODIFIED:20231227T123856Z
UID:4472-1713772800-1713805200@www.ludvigsborgsskolan.se
SUMMARY:Studiedag
DESCRIPTION:Studiedag
URL:http://www.ludvigsborgsskolan.se/kalendern/studiedag-13/
END:VEVENT
BEGIN:VEVENT
DTSTART;VALUE=DATE:20240510
DTEND;VALUE=DATE:20240511
DTSTAMP:20260425T122401
CREATED:20240327T062817Z
LAST-MODIFIED:20240327T062817Z
UID:4511-1715299200-1715385599@www.ludvigsborgsskolan.se
SUMMARY:LOVDAG
DESCRIPTION:
URL:http://www.ludvigsborgsskolan.se/kalendern/lovdag-7/
END:VEVENT
BEGIN:VEVENT
DTSTART;TZID=Europe/Stockholm:20240510T080000
DTEND;TZID=Europe/Stockholm:20240510T170000
DTSTAMP:20260425T122401
CREATED:20240509T090820Z
LAST-MODIFIED:20240509T090820Z
UID:4539-1715328000-1715360400@www.ludvigsborgsskolan.se
SUMMARY:LOV
DESCRIPTION:
URL:http://www.ludvigsborgsskolan.se/kalendern/lov-8/
END:VEVENT
BEGIN:VEVENT
DTSTART;VALUE=DATE:20240607
DTEND;VALUE=DATE:20240608
DTSTAMP:20260425T122401
CREATED:20240327T062936Z
LAST-MODIFIED:20240327T062936Z
UID:4513-1717718400-1717804799@www.ludvigsborgsskolan.se
SUMMARY:LOVDAG
DESCRIPTION:
URL:http://www.ludvigsborgsskolan.se/kalendern/lovdag-8/
END:VEVENT
BEGIN:VEVENT
DTSTART;TZID=Europe/Stockholm:20240612T082000
DTEND;TZID=Europe/Stockholm:20240612T100000
DTSTAMP:20260425T122401
CREATED:20231227T124040Z
LAST-MODIFIED:20240509T090633Z
UID:4474-1718180400-1718186400@www.ludvigsborgsskolan.se
SUMMARY:Skolavslutning på Ludvigsborgs Friskola
DESCRIPTION:Skolavslutning på Ludvigsborgs Friskola kl. 8.20-10.00 ca. \nDagen startas upp kl. 8.20 med att eleverna och deras klassföreståndare träffas i sina respektive klassrum.\nKlockan 9.00 hälsas vårdnadshavare välkomna att fira den gemensamma skolavslutningen tillsammans med elever och personal. Vårdnadshavare samlas på gräsmattan\, ta gärna med filt att sitta på\, framför högstadiet där eleverna\, ledda av musiklärare EwaMona Håkansson\, bjuder på musikalisk avslutning. Vid ca 9.30 sjunger vi ut våra nionde klassare och skoldagen beräknas vara slut ca 10.00. Därefter är det SOMMARLOV för våra fina elever! \nBussar går hem i anslutning till skoldags slut.
URL:http://www.ludvigsborgsskolan.se/kalendern/skolavslutning-13/
END:VEVENT
BEGIN:VEVENT
DTSTART;TZID=Europe/Stockholm:20240816T082000
DTEND;TZID=Europe/Stockholm:20240816T120000
DTSTAMP:20260425T122401
CREATED:20240327T063428Z
LAST-MODIFIED:20240327T063428Z
UID:4516-1723796400-1723809600@www.ludvigsborgsskolan.se
SUMMARY:Skolstart läsåret 24/25
DESCRIPTION:Välkomna tillbaka till läsåret 24/25 \nElever första skoldag\, kl. 8.20-12.00\nLunch serveras denna dag. Skolbuss går hem i anslutning till skoldags slut.
URL:http://www.ludvigsborgsskolan.se/kalendern/skolstart-lasaret-24-25/
END:VEVENT
BEGIN:VEVENT
DTSTART;VALUE=DATE:20240902
DTEND;VALUE=DATE:20240903
DTSTAMP:20260425T122401
CREATED:20240831T065404Z
LAST-MODIFIED:20240831T065404Z
UID:4592-1725235200-1725321599@www.ludvigsborgsskolan.se
SUMMARY:Skolfotografering
DESCRIPTION:Skolfotografering
URL:http://www.ludvigsborgsskolan.se/kalendern/skolfotografering-2/
END:VEVENT
BEGIN:VEVENT
DTSTART;VALUE=DATE:20240903
DTEND;VALUE=DATE:20240904
DTSTAMP:20260425T122401
CREATED:20240831T065641Z
LAST-MODIFIED:20240831T065641Z
UID:4596-1725321600-1725407999@www.ludvigsborgsskolan.se
SUMMARY:Skolfotografering
DESCRIPTION:Skolfotografering
URL:http://www.ludvigsborgsskolan.se/kalendern/skolfotografering-3/
END:VEVENT
BEGIN:VEVENT
DTSTART;TZID=Europe/Stockholm:20240923T080000
DTEND;TZID=Europe/Stockholm:20240923T170000
DTSTAMP:20260425T122401
CREATED:20240327T063611Z
LAST-MODIFIED:20240327T063611Z
UID:4518-1727078400-1727110800@www.ludvigsborgsskolan.se
SUMMARY:Studiedag
DESCRIPTION:
URL:http://www.ludvigsborgsskolan.se/kalendern/studiedag-14/
END:VEVENT
BEGIN:VEVENT
DTSTART;VALUE=DATE:20241028
DTEND;VALUE=DATE:20241102
DTSTAMP:20260425T122401
CREATED:20240327T063935Z
LAST-MODIFIED:20240327T063935Z
UID:4522-1730073600-1730505599@www.ludvigsborgsskolan.se
SUMMARY:HÖSTLOV
DESCRIPTION:
URL:http://www.ludvigsborgsskolan.se/kalendern/hostlov-6/
END:VEVENT
BEGIN:VEVENT
DTSTART;TZID=Europe/Stockholm:20241220T082000
DTEND;TZID=Europe/Stockholm:20241220T100000
DTSTAMP:20260425T122401
CREATED:20240327T063735Z
LAST-MODIFIED:20240327T063735Z
UID:4520-1734682800-1734688800@www.ludvigsborgsskolan.se
SUMMARY:Julavslutning
DESCRIPTION:Julavslutning. \nSkolbussar går hem i anslutning till skoldags slut.
URL:http://www.ludvigsborgsskolan.se/kalendern/julavslutning-2/
END:VEVENT
BEGIN:VEVENT
DTSTART;VALUE=DATE:20250110
DTEND;VALUE=DATE:20250111
DTSTAMP:20260425T122401
CREATED:20241024T084942Z
LAST-MODIFIED:20241024T084942Z
UID:4615-1736467200-1736553599@www.ludvigsborgsskolan.se
SUMMARY:Skolstart
DESCRIPTION:Skolstart vårterminen 2025.\nOrdinarie schema.
URL:http://www.ludvigsborgsskolan.se/kalendern/skolstart-11/
END:VEVENT
BEGIN:VEVENT
DTSTART;TZID=Europe/Stockholm:20250217T080000
DTEND;TZID=Europe/Stockholm:20250221T170000
DTSTAMP:20260425T122401
CREATED:20241024T090144Z
LAST-MODIFIED:20241024T090144Z
UID:4622-1739779200-1740157200@www.ludvigsborgsskolan.se
SUMMARY:Sportlov
DESCRIPTION:Sportlov
URL:http://www.ludvigsborgsskolan.se/kalendern/sportlov-9/
END:VEVENT
BEGIN:VEVENT
DTSTART;VALUE=DATE:20250311
DTEND;VALUE=DATE:20250312
DTSTAMP:20260425T122401
CREATED:20241223T074752Z
LAST-MODIFIED:20241223T074752Z
UID:4642-1741651200-1741737599@www.ludvigsborgsskolan.se
SUMMARY:Studiedag
DESCRIPTION:Studiedag 11 mars 
URL:http://www.ludvigsborgsskolan.se/kalendern/studiedag-15/
END:VEVENT
BEGIN:VEVENT
DTSTART;TZID=Europe/Stockholm:20250311T080000
DTEND;TZID=Europe/Stockholm:20250311T170000
DTSTAMP:20260425T122401
CREATED:20250307T080907Z
LAST-MODIFIED:20250307T080907Z
UID:4673-1741680000-1741712400@www.ludvigsborgsskolan.se
SUMMARY:Studiedag
DESCRIPTION:Studiedag\, skola och fritids stängt.
URL:http://www.ludvigsborgsskolan.se/kalendern/studiedag-16/
END:VEVENT
BEGIN:VEVENT
DTSTART;TZID=Europe/Stockholm:20250414T080000
DTEND;TZID=Europe/Stockholm:20250421T170000
DTSTAMP:20260425T122401
CREATED:20241024T090312Z
LAST-MODIFIED:20241024T090312Z
UID:4625-1744617600-1745254800@www.ludvigsborgsskolan.se
SUMMARY:Påsklov
DESCRIPTION:Påsklov
URL:http://www.ludvigsborgsskolan.se/kalendern/pasklov-10/
END:VEVENT
BEGIN:VEVENT
DTSTART;VALUE=DATE:20250501
DTEND;VALUE=DATE:20250502
DTSTAMP:20260425T122401
CREATED:20241223T074958Z
LAST-MODIFIED:20241223T074958Z
UID:4644-1746057600-1746143999@www.ludvigsborgsskolan.se
SUMMARY:1 maj
DESCRIPTION:1 maj\, lovdag
URL:http://www.ludvigsborgsskolan.se/kalendern/1-maj/
END:VEVENT
BEGIN:VEVENT
DTSTART;VALUE=DATE:20250502
DTEND;VALUE=DATE:20250503
DTSTAMP:20260425T122401
CREATED:20241223T075117Z
LAST-MODIFIED:20241223T075117Z
UID:4646-1746144000-1746230399@www.ludvigsborgsskolan.se
SUMMARY:Lovdag\, dag efter 1 maj
DESCRIPTION:Lovdag\, dag efter 1 maj
URL:http://www.ludvigsborgsskolan.se/kalendern/lovdag-dag-efter-1-maj/
END:VEVENT
BEGIN:VEVENT
DTSTART;VALUE=DATE:20250529
DTEND;VALUE=DATE:20250530
DTSTAMP:20260425T122401
CREATED:20241223T075256Z
LAST-MODIFIED:20241223T075256Z
UID:4648-1748476800-1748563199@www.ludvigsborgsskolan.se
SUMMARY:Kristi Himmelsfärds dag
DESCRIPTION:Lovdag
URL:http://www.ludvigsborgsskolan.se/kalendern/kristi-himmelsfards-dag/
END:VEVENT
BEGIN:VEVENT
DTSTART;VALUE=DATE:20250530
DTEND;VALUE=DATE:20250531
DTSTAMP:20260425T122401
CREATED:20241223T075409Z
LAST-MODIFIED:20241223T075409Z
UID:4650-1748563200-1748649599@www.ludvigsborgsskolan.se
SUMMARY:Dag efter helgdag\, lovdag
DESCRIPTION:Lovdag
URL:http://www.ludvigsborgsskolan.se/kalendern/dag-efter-helgdag-lovdag/
END:VEVENT
BEGIN:VEVENT
DTSTART;VALUE=DATE:20250606
DTEND;VALUE=DATE:20250607
DTSTAMP:20260425T122401
CREATED:20241223T075458Z
LAST-MODIFIED:20241223T075458Z
UID:4652-1749168000-1749254399@www.ludvigsborgsskolan.se
SUMMARY:Nationaldagen
DESCRIPTION:Lovdag
URL:http://www.ludvigsborgsskolan.se/kalendern/nationaldagen-2/
END:VEVENT
BEGIN:VEVENT
DTSTART;TZID=Europe/Stockholm:20250612T082000
DTEND;TZID=Europe/Stockholm:20250612T100000
DTSTAMP:20260425T122401
CREATED:20241223T075702Z
LAST-MODIFIED:20241223T075702Z
UID:4654-1749716400-1749722400@www.ludvigsborgsskolan.se
SUMMARY:Skolavslutning
DESCRIPTION:Skolavslutning på Ludvigsborgs Friskola.\nKl. 8.20-10.00 \nIngen skollunch serveras denna dag.\nSkolbussar går hem i anslutning till skoldags slut.
URL:http://www.ludvigsborgsskolan.se/kalendern/skolavslutning-14/
END:VEVENT
BEGIN:VEVENT
DTSTART;TZID=Europe/Stockholm:20250819T082000
DTEND;TZID=Europe/Stockholm:20250819T120000
DTSTAMP:20260425T122401
CREATED:20250206T054831Z
LAST-MODIFIED:20250206T054831Z
UID:4661-1755591600-1755604800@www.ludvigsborgsskolan.se
SUMMARY:Läsårsstart 25/26
DESCRIPTION:Läsårsstart kl.8.20-12.00\nLunch serveras denna dag.\nBussar går hem i anslutning till skoldagen.
URL:http://www.ludvigsborgsskolan.se/kalendern/lasarsstart-25-26/
END:VEVENT
BEGIN:VEVENT
DTSTART;VALUE=DATE:20250923
DTEND;VALUE=DATE:20250924
DTSTAMP:20260425T122401
CREATED:20250707T115350Z
LAST-MODIFIED:20250707T115541Z
UID:4700-1758585600-1758671999@www.ludvigsborgsskolan.se
SUMMARY:Studiedag
DESCRIPTION:Studiedag
URL:http://www.ludvigsborgsskolan.se/kalendern/studiedag-17/
END:VEVENT
BEGIN:VEVENT
DTSTART;TZID=Europe/Stockholm:20251027T080000
DTEND;TZID=Europe/Stockholm:20251031T170000
DTSTAMP:20260425T122401
CREATED:20250427T061450Z
LAST-MODIFIED:20250427T061450Z
UID:4685-1761552000-1761930000@www.ludvigsborgsskolan.se
SUMMARY:Höstlov
DESCRIPTION:Höstlov/Läslov
URL:http://www.ludvigsborgsskolan.se/kalendern/hostlov-7/
END:VEVENT
BEGIN:VEVENT
DTSTART;TZID=Europe/Stockholm:20251219T082000
DTEND;TZID=Europe/Stockholm:20251219T100000
DTSTAMP:20260425T122401
CREATED:20250206T055258Z
LAST-MODIFIED:20250206T055258Z
UID:4664-1766132400-1766138400@www.ludvigsborgsskolan.se
SUMMARY:Skolavslutning
DESCRIPTION:Skolavslutning för elever på Ludvigsborgs Friskola på Ludvigsborgs Friskola kl. 8.20-10.00.\nBussar går hem i anslutning till skoldags slut.
URL:http://www.ludvigsborgsskolan.se/kalendern/skolavslutning-15/
END:VEVENT
BEGIN:VEVENT
DTSTART;VALUE=DATE:20260109
DTEND;VALUE=DATE:20260110
DTSTAMP:20260425T122401
CREATED:20250707T115832Z
LAST-MODIFIED:20250707T115832Z
UID:4702-1767916800-1768003199@www.ludvigsborgsskolan.se
SUMMARY:Skolstart VT 2026
DESCRIPTION:Skolstart ordinarie schema.
URL:http://www.ludvigsborgsskolan.se/kalendern/skolstart-vt-2026/
END:VEVENT
BEGIN:VEVENT
DTSTART;VALUE=DATE:20260216
DTEND;VALUE=DATE:20260221
DTSTAMP:20260425T122401
CREATED:20250707T120009Z
LAST-MODIFIED:20250707T120009Z
UID:4704-1771200000-1771631999@www.ludvigsborgsskolan.se
SUMMARY:SPORTLOV
DESCRIPTION:Sportlov!
URL:http://www.ludvigsborgsskolan.se/kalendern/sportlov-10/
END:VEVENT
END:VCALENDAR